BEGIN:VCALENDAR
VERSION:2.0
PRODID:-//North Woods Village Memory Care - ECPv6.15.20//NONSGML v1.0//EN
CALSCALE:GREGORIAN
METHOD:PUBLISH
X-WR-CALNAME:North Woods Village Memory Care
X-ORIGINAL-URL:https://www.northwoodsmemorycare.com
X-WR-CALDESC:Events for North Woods Village Memory Care
REFRESH-INTERVAL;VALUE=DURATION:PT1H
X-Robots-Tag:noindex
X-PUBLISHED-TTL:PT1H
BEGIN:VTIMEZONE
TZID:America/Detroit
BEGIN:DAYLIGHT
TZOFFSETFROM:-0500
TZOFFSETTO:-0400
TZNAME:EDT
DTSTART:20250309T070000
END:DAYLIGHT
BEGIN:STANDARD
TZOFFSETFROM:-0400
TZOFFSETTO:-0500
TZNAME:EST
DTSTART:20251102T060000
END:STANDARD
BEGIN:DAYLIGHT
TZOFFSETFROM:-0500
TZOFFSETTO:-0400
TZNAME:EDT
DTSTART:20260308T070000
END:DAYLIGHT
BEGIN:STANDARD
TZOFFSETFROM:-0400
TZOFFSETTO:-0500
TZNAME:EST
DTSTART:20261101T060000
END:STANDARD
BEGIN:DAYLIGHT
TZOFFSETFROM:-0500
TZOFFSETTO:-0400
TZNAME:EDT
DTSTART:20270314T070000
END:DAYLIGHT
BEGIN:STANDARD
TZOFFSETFROM:-0400
TZOFFSETTO:-0500
TZNAME:EST
DTSTART:20271107T060000
END:STANDARD
END:VTIMEZONE
BEGIN:VEVENT
DTSTART;TZID=America/Detroit:20260421T100000
DTEND;TZID=America/Detroit:20260424T160000
DTSTAMP:20260422T090954
CREATED:20260310T192501Z
LAST-MODIFIED:20260310T192501Z
UID:10001401-1776765600-1777046400@www.northwoodsmemorycare.com
SUMMARY:Alzheimer's Benefit Bake Sale
DESCRIPTION:Stop by and support our annual Alzheimer’s Benefit bake sale\, with all proceeds to be donated to the Alzheimer’s Association. You can donate baked goods or buy baked goods on April 21-24\, from 10 am to 4 pm. Call our concierge if you would like to donate goods to the bake sale. We will have healthy options\, sugar-free options\, and the good old-fashioned treats! Financial contributions are accepted as well! Cash or check only. \n 
URL:https://www.northwoodsmemorycare.com/events/alzheimers-benefit-bake-sale-3/
LOCATION:North Woods Village at Edison Lakes\, 1409 E. Day Road\, Mishawaka\, IN\, 46545\, United States
CATEGORIES:Mishawaka
ATTACH;FMTTYPE=image/jpeg:https://www.northwoodsmemorycare.com/wp-content/uploads/2024/09/NWV-EL-Bake-Sale-Landing-hero-2.jpg
GEO:41.6982225;-86.1659384
X-APPLE-STRUCTURED-LOCATION;VALUE=URI;X-ADDRESS=North Woods Village at Edison Lakes 1409 E. Day Road Mishawaka IN 46545 United States;X-APPLE-RADIUS=500;X-TITLE=1409 E. Day Road:geo:-86.1659384,41.6982225
END:VEVENT
END:VCALENDAR