BEGIN:VCALENDAR
VERSION:2.0
PRODID:-//North Woods Village Memory Care - ECPv6.15.20//NONSGML v1.0//EN
CALSCALE:GREGORIAN
METHOD:PUBLISH
X-ORIGINAL-URL:https://www.northwoodsmemorycare.com
X-WR-CALDESC:Events for North Woods Village Memory Care
REFRESH-INTERVAL;VALUE=DURATION:PT1H
X-Robots-Tag:noindex
X-PUBLISHED-TTL:PT1H
BEGIN:VTIMEZONE
TZID:America/Detroit
BEGIN:DAYLIGHT
TZOFFSETFROM:-0500
TZOFFSETTO:-0400
TZNAME:EDT
DTSTART:20250309T070000
END:DAYLIGHT
BEGIN:STANDARD
TZOFFSETFROM:-0400
TZOFFSETTO:-0500
TZNAME:EST
DTSTART:20251102T060000
END:STANDARD
BEGIN:DAYLIGHT
TZOFFSETFROM:-0500
TZOFFSETTO:-0400
TZNAME:EDT
DTSTART:20260308T070000
END:DAYLIGHT
BEGIN:STANDARD
TZOFFSETFROM:-0400
TZOFFSETTO:-0500
TZNAME:EST
DTSTART:20261101T060000
END:STANDARD
BEGIN:DAYLIGHT
TZOFFSETFROM:-0500
TZOFFSETTO:-0400
TZNAME:EDT
DTSTART:20270314T070000
END:DAYLIGHT
BEGIN:STANDARD
TZOFFSETFROM:-0400
TZOFFSETTO:-0500
TZNAME:EST
DTSTART:20271107T060000
END:STANDARD
END:VTIMEZONE
BEGIN:VEVENT
DTSTART;TZID=America/Detroit:20260423T180000
DTEND;TZID=America/Detroit:20260423T190000
DTSTAMP:20260422T075650
CREATED:20260310T213741Z
LAST-MODIFIED:20260310T213741Z
UID:10001399-1776967200-1776970800@www.northwoodsmemorycare.com
SUMMARY:Dementia and Finances
DESCRIPTION:Presented by: Jeanne Case AAMS/WMS\, Financial Planner – Raymond James\n \nPlease join us at North Woods Village\, as we welcome Jeanne Case\, AAMS/WMS.  Jeanne is a financial planner with Raymond James in Kalamazoo; however\, she has 20 years of healthcare experience prior to becoming a financial planner.  She worked with Hospice and as a manager with Three Rivers Health and can bring a unique perspective based on her experiences.  Don’t miss this important event. Appetizers and drinks will be provided.\n \nSpace is limited for this complimentary event. Please RSVP by April 20 to 269-397-2200 or fill out the form below.\n \nPlease enable JavaScript in your browser to complete this form.Name *FirstLastEmail *Phone *How Many People are Attending with You? *Do you have a relative/friend that has been diagnosed with Alzheimer's or dementia? *Choose One...YesNoUnsureHow Did you Hear about Us? *Choose One...Through a FriendGoogle/Search EngineFacebookIndeedNews or BlogOtherSubscribe Receive Email UpdatesSubmit
URL:https://www.northwoodsmemorycare.com/events/dementia-and-finances-2/
LOCATION:North Woods Village of Kalamazoo\, 6203 Stadium Drive\, Kalamazoo\, MI\, 49009\, United States
CATEGORIES:Kalamazoo
ATTACH;FMTTYPE=image/jpeg:https://www.northwoodsmemorycare.com/wp-content/uploads/2026/03/Kzoo-Dementia-and-Finances-landing.jpg
GEO:42.2616635;-85.6709603
X-APPLE-STRUCTURED-LOCATION;VALUE=URI;X-ADDRESS=North Woods Village of Kalamazoo 6203 Stadium Drive Kalamazoo MI 49009 United States;X-APPLE-RADIUS=500;X-TITLE=6203 Stadium Drive:geo:-85.6709603,42.2616635
END:VEVENT
BEGIN:VEVENT
DTSTART;TZID=America/Detroit:20260528T180000
DTEND;TZID=America/Detroit:20260528T190000
DTSTAMP:20260422T075650
CREATED:20260402T151257Z
LAST-MODIFIED:20260402T151257Z
UID:10001402-1779991200-1779994800@www.northwoodsmemorycare.com
SUMMARY:Declutter Your House or a Senior Parent's House
DESCRIPTION:Presented by: Kathy Barnitz\, Jaqua Realtors\n \nWhen answering the question of how to successfully declutter your house\, Kathy will explain what decluttering is\, why do it\, and the psychology of letting go. She will speak on how to tackle the chore of downsizing one’s home when transitioning into a small home like an assisted living or memory care community. Kathy will introduce tools that will help determine what to keep and what to throw out\, and how that will ultimately serve them in the later years. Drinks and heavy appetizers will be served.\n \nSpace is limited for this complimentary event. RSVP by May 25th by calling 269-397-2200 or fill out the form below.\n \nPlease enable JavaScript in your browser to complete this form.Name *FirstLastEmail *Phone *How Many People are Attending with You? *Do you have a relative/friend that has been diagnosed with Alzheimer's or dementia? *Choose One...YesNoUnsureHow Did you Hear about Us? *Choose One...Through a FriendGoogle/Search EngineFacebookIndeedNews or BlogOtherSubscribe Receive Email UpdatesSubmit
URL:https://www.northwoodsmemorycare.com/events/declutter-your-house-or-a-senior-parents-house-3/
LOCATION:North Woods Village of Kalamazoo\, 6203 Stadium Drive\, Kalamazoo\, MI\, 49009\, United States
CATEGORIES:Kalamazoo
ATTACH;FMTTYPE=image/jpeg:https://www.northwoodsmemorycare.com/wp-content/uploads/2025/10/NWV-Kzoo-Decluttering-Landing.jpg
GEO:42.2616635;-85.6709603
X-APPLE-STRUCTURED-LOCATION;VALUE=URI;X-ADDRESS=North Woods Village of Kalamazoo 6203 Stadium Drive Kalamazoo MI 49009 United States;X-APPLE-RADIUS=500;X-TITLE=6203 Stadium Drive:geo:-85.6709603,42.2616635
END:VEVENT
END:VCALENDAR